{"text_format":"1","workbook":"xlsx","n_sheets":3,"sheets":["Página1","Resumo","Planilha1"],"not_rendered":{"charts":0,"images":0,"macros":1,"external_links":0,"defined_names":0,"comments":0,"pivot_tables":0},"unopened":[],"bounds":{"document_bytes":16777216,"sheet_cells":100000,"rows_first":2000,"rows_last":500,"rows_between":2000,"halvings":0,"cell_chars":16384,"cell_head_chars":4096},"cells_cut":0,"cells_raw":0,"read":"whole","date_system":"1900"}

{"sheet":"Página1","index":0,"n_rows":183,"n_cols":10,"rows_kept":183,"cut":false,"hidden":false,"merged":[[94,5,103,5],[108,5,117,5],[108,2,117,2],[118,2,127,2],[173,2,181,2],[146,5,154,5],[155,5,163,5],[146,6,154,6],[155,6,163,6],[164,6,172,6],[173,6,181,6],[146,2,154,2],[155,2,163,2],[164,2,172,2],[164,5,170,5],[134,0,193,0],[62,1,73,1],[110,1,121,1],[122,1,133,1],[158,1,169,1],[170,1,181,1],[182,1,193,1],[86,1,97,1],[98,1,109,1],[74,1,85,1],[62,0,133,0],[84,2,93,2],[94,2,103,2],[2,7,57,11],[1,1,1,6],[146,1,157,1],[134,1,145,1],[74,6,133,6],[86,3,121,3],[74,5,85,5],[118,5,129,5],[104,2,107,2],[74,3,85,3],[128,2,133,2],[104,5,107,5],[74,4,121,4],[74,2,83,2],[2,0,61,0],[50,1,61,1],[38,1,49,1],[2,1,13,1],[14,1,25,1],[26,1,37,1]]}
[null,"Horário (5 min)","Segunda","Terça","Quarta","Quinta","Sexta",null,null,{"$f":"Desligar()","v":true}]
[null,"QUADRO DE HORÁRIOS",null,null,null,null,null,null,null,{"$f":"EstaLigado()","v":false}]
["Manhã","7h - 8h",null,null,null,null,null,"OBS: CADA BLOCO DE HORA ESTÁ SEPARADO EM 12 PARTES, REPRESENTANDO 5MIN. PERMITINDO ASSIM, MAIOR FLEXIBILIDADE E VERACIDADE NO CADASTRO DO PLANO INDIVIDUAL DE TRABALHO DO DOCENTE"]
[]
[]
[]
[]
[]
[]
[]
[]
[]
[]
[]
[null,"8h - 9h"]
[]
[]
[]
[]
[]
[]
[]
[]
[]
[]
[]
[null,"9h - 10h"]
[]
[]
[]
[]
[]
[]
[]
[]
[]
[]
[]
[null,"10h - 11h"]
[]
[]
[]
[]
[]
[]
[]
[]
[]
[]
[]
[null,"11h - 12h"]
[]
[]
[]
[]
[]
[]
[]
[]
[]
[]
[]
["Tarde","12h - 13h"]
[]
[]
[]
[]
[]
[]
[]
[]
[]
[]
[]
[null,"13h - 14h","XXX","Manutenção de Ensino","Manutenção de ensino","Reunião CBSI","Pesquisa Orquestração e Sistemas"]
[]
[]
[]
[]
[]
[]
[]
[]
[]
[null,null,"LEEL.7"]
[]
[null,"14h - 15h",null,"MC - Jornada de atualização em ferramentas computacionais que auxiliam a pesquisa científica"]
[]
[]
[]
[]
[]
[]
[]
[null,null,"LEEL.7",null,null,"LEEL.7"]
[]
[]
[]
[null,"15h - 16h"]
[]
[]
[]
[]
[]
[null,null,"Atendimento",null,null,"Atendimento"]
[]
[]
[]
[null,null,"LEEL.7",null,null,"LEEL.7"]
[]
[null,"16h - 17h"]
[]
[]
[]
[]
[]
[]
[]
[null,null,"LEEL.7",null,null,"Reunião"]
[]
[]
[]
[null,"17h - 18h"]
[]
[]
[]
[]
[]
[null,null,"Atendimento"]
[]
[]
[]
[]
[]
["Noite","18h - 19h"]
[]
[]
[]
[]
[]
[]
[]
[]
[]
[]
[]
[null,"19h - 20h","BSI18L.18",null,null,"BSI18L.36","BSI18L.36"]
[]
[]
[]
[]
[]
[]
[]
[]
[null,null,"BSI18L.18",null,null,"BSI18L.36","BSI18L.36"]
[]
[]
[null,"20h - 21h"]
[]
[]
[]
[]
[]
[null,null,"BSI18L.18",null,null,"Atendimento","BSI18L.36"]
[]
[]
[]
[]
[]
[null,"21h - 22h"]
[]
[]
[null,null,"BSI18L.18",null,null,null,"BSI18L.36"]
[]
[]
[]
[]
[]
[]
[]
[]
[null,"22h - 23h"]

{"sheet":"Resumo","index":1,"n_rows":12,"n_cols":11,"rows_kept":12,"cut":false,"hidden":false,"merged":[[10,0,11,0],[10,6,10,7],[11,6,11,7],[10,8,10,10],[11,8,11,10]]}
["Carga Horária Diária",8,null,null,null,null,"SEG","TER","QUA","QUI","SEX"]
["Carga horária Semanal",40]
["Qtd Minutos Por Celula",5]
["Tempo Alocado Em Minutos",{"$f":"TempoAlocadoEmMinutos(Página1!D$15:D$38,$B$3)","v":0},null,null,null,null,{"$f":"TempoAlocadoEmMinutos(Página1!C$3:C$193,$B$3)","v":480},{"$f":"TempoAlocadoEmMinutos(Página1!D$3:D$193,$B$3)","v":240},{"$f":"TempoAlocadoEmMinutos(Página1!E$3:E$193,$B$3)","v":240},{"$f":"TempoAlocadoEmMinutos(Página1!F$3:F$193,$B$3)","v":365},{"$f":"TempoAlocadoEmMinutos(Página1!G$3:G$193,$B$3)","v":480}]
["Tempo Alocado Em Horas",{"$f":" TempoAlocadoEmHoras(Página1!D$15:D$38,$B$3)","v":0},null,null,null,null,{"$f":"G4/60","v":8},{"$f":"H4/60","v":4},4,6.083333333333333,8]
["Tempo Pendente Em Horas",{"$f":"2-B5","v":2},null,null,null,null,{"$f":"$B$1-G5","v":0},{"$f":"$B$1-H5","v":4},{"$f":"$B$1-I5","v":4},{"$f":"$B$1-J5","v":1.916666666666667},{"$f":"$B$1-K5","v":0}]
["QtdCelulasPreenchidas",{"$f":"QtdCelulasPreenchidas(Página1!D$15:D$38)","v":0},null,null,null,null,{"$f":"QtdCelulasPreenchidas(Página1!C$3:C$193)","v":0},{"$f":"QtdCelulasPreenchidas(Página1!D$3:D$193)","v":0},{"$f":"QtdCelulasPreenchidas(Página1!E$3:E$193)","v":0},{"$f":"QtdCelulasPreenchidas(Página1!F$3:F$193)","v":0},{"$f":"QtdCelulasPreenchidas(Página1!G$3:G$193)","v":0}]
["QtdCelulasQueFaltam",{"$f":"QtdCelulasQueFaltam(Página1!D$15:D$38,2,5)","v":0},null,null,null,null,{"$f":"QtdCelulasQueFaltam(Página1!C$3:C$193,$B$1,$B$3)","v":0},{"$f":"QtdCelulasQueFaltam(Página1!D$3:D$193,$B$1,$B$3)","v":0},{"$f":"QtdCelulasQueFaltam(Página1!E$3:E$193,$B$1,$B$3)","v":0},{"$f":"QtdCelulasQueFaltam(Página1!F$3:F$193,$B$1,$B$3)","v":0},{"$f":"QtdCelulasQueFaltam(Página1!G$3:G$193,$B$1,$B$3)","v":0}]
[]
[]
["Tempo Total (Horas)",null,null,null,null,null,"Alocado",null,"Pendente"]
[null,null,null,null,null,null,{"$f":"SUM(G5:K5)","v":30.083333333333332},null,{"$f":"$B$2-G12","v":9.9166666666666679}]

{"sheet":"Planilha1","index":2,"n_rows":15,"n_cols":6,"rows_kept":15,"cut":false,"hidden":false,"merged":[[5,3,6,3],[9,3,10,3]]}
[]
[]
[]
[]
[]
[null,null,"x",2]
[null,null,"x"]
[]
[]
[null,null,"x",2]
[null,null,"x"]
[]
[]
[]
[null,null,null,null,null,{"$f":"QtdCelulasPreenchidas(C4:E11)","v":0}]